BEGIN:VCALENDAR
VERSION:2.0
PRODID:-//Sven Bloemen - ECPv6.15.18//NONSGML v1.0//EN
CALSCALE:GREGORIAN
METHOD:PUBLISH
X-WR-CALNAME:Sven Bloemen
X-ORIGINAL-URL:https://svenbloemen.be
X-WR-CALDESC:Events for Sven Bloemen
REFRESH-INTERVAL;VALUE=DURATION:PT1H
X-Robots-Tag:noindex
X-PUBLISHED-TTL:PT1H
BEGIN:VTIMEZONE
TZID:Europe/Brussels
BEGIN:DAYLIGHT
TZOFFSETFROM:+0100
TZOFFSETTO:+0200
TZNAME:CEST
DTSTART:20230326T010000
END:DAYLIGHT
BEGIN:STANDARD
TZOFFSETFROM:+0200
TZOFFSETTO:+0100
TZNAME:CET
DTSTART:20231029T010000
END:STANDARD
BEGIN:DAYLIGHT
TZOFFSETFROM:+0100
TZOFFSETTO:+0200
TZNAME:CEST
DTSTART:20240331T010000
END:DAYLIGHT
BEGIN:STANDARD
TZOFFSETFROM:+0200
TZOFFSETTO:+0100
TZNAME:CET
DTSTART:20241027T010000
END:STANDARD
BEGIN:DAYLIGHT
TZOFFSETFROM:+0100
TZOFFSETTO:+0200
TZNAME:CEST
DTSTART:20250330T010000
END:DAYLIGHT
BEGIN:STANDARD
TZOFFSETFROM:+0200
TZOFFSETTO:+0100
TZNAME:CET
DTSTART:20251026T010000
END:STANDARD
END:VTIMEZONE
BEGIN:VEVENT
DTSTART;TZID=Europe/Brussels:20240906T080000
DTEND;TZID=Europe/Brussels:20240906T170000
DTSTAMP:20260421T210201
CREATED:20240629T131948Z
LAST-MODIFIED:20240629T131948Z
UID:445-1725609600-1725642000@svenbloemen.be
SUMMARY:Rafaël Mertens Trio @ Ichtegem
DESCRIPTION:
URL:https://svenbloemen.be/event/rafael-mertens-trio-ichtegem/
END:VEVENT
BEGIN:VEVENT
DTSTART;TZID=Europe/Brussels:20240914T200000
DTEND;TZID=Europe/Brussels:20240914T230000
DTSTAMP:20260421T210201
CREATED:20240220T120329Z
LAST-MODIFIED:20240325T071841Z
UID:432-1726344000-1726354800@svenbloemen.be
SUMMARY:Stef Paglia @ T-Blues & Roots
DESCRIPTION:
URL:https://svenbloemen.be/event/stef-paglia-t-blues-roots/
LOCATION:T-Blues & Roots\, Rauwelkoven 59A\, Geel\, 2440\, Belgium
END:VEVENT
BEGIN:VEVENT
DTSTART;TZID=Europe/Brussels:20240925T200000
DTEND;TZID=Europe/Brussels:20240925T220000
DTSTAMP:20260421T210201
CREATED:20240826T203425Z
LAST-MODIFIED:20240826T203425Z
UID:455-1727294400-1727301600@svenbloemen.be
SUMMARY:Rafaël Mertens Trio @ Solvay Library
DESCRIPTION:
URL:https://svenbloemen.be/event/rafael-mertens-trio-solvay-library/
LOCATION:Solvay Library\, Rue Belliard 137\, Brussels\, 1040\, Belgium
END:VEVENT
BEGIN:VEVENT
DTSTART;TZID=Europe/Brussels:20240926T080000
DTEND;TZID=Europe/Brussels:20240926T170000
DTSTAMP:20260421T210201
CREATED:20240311T131651Z
LAST-MODIFIED:20240311T131651Z
UID:436-1727337600-1727370000@svenbloemen.be
SUMMARY:Stef Paglia Band @ TOPOS
DESCRIPTION:
URL:https://svenbloemen.be/event/stef-paglia-band-topos/
LOCATION:TOPOS\, Hauptstraße 134\, Leverkusen\, 51373\, Germany
END:VEVENT
BEGIN:VEVENT
DTSTART;VALUE=DATE:20240927
DTEND;VALUE=DATE:20240928
DTSTAMP:20260421T210201
CREATED:20231024T215439Z
LAST-MODIFIED:20231024T215439Z
UID:386-1727395200-1727481599@svenbloemen.be
SUMMARY:Stef Paglia @ Bielefelder Jazzclub
DESCRIPTION:
URL:https://svenbloemen.be/event/stef-paglia-bielefelder-jazzclub/
LOCATION:Bielefelder Jazzclub\, Bielefeld\, Germany
END:VEVENT
BEGIN:VEVENT
DTSTART;VALUE=DATE:20240928
DTEND;VALUE=DATE:20240929
DTSTAMP:20260421T210201
CREATED:20240808T151014Z
LAST-MODIFIED:20240808T151014Z
UID:448-1727481600-1727567999@svenbloemen.be
SUMMARY:Stef Paglia Band at Transilvania Blues
DESCRIPTION:
URL:https://svenbloemen.be/event/spb-transilvania-blues/
LOCATION:Transilvania Blues\, Str. Nicolae Titulescu 2P\, Brașov\, 500010\, Romania
END:VEVENT
END:VCALENDAR