BEGIN:VCALENDAR
VERSION:2.0
PRODID:-//Sven Bloemen - ECPv6.15.18//NONSGML v1.0//EN
CALSCALE:GREGORIAN
METHOD:PUBLISH
X-WR-CALNAME:Sven Bloemen
X-ORIGINAL-URL:https://svenbloemen.be
X-WR-CALDESC:Events for Sven Bloemen
REFRESH-INTERVAL;VALUE=DURATION:PT1H
X-Robots-Tag:noindex
X-PUBLISHED-TTL:PT1H
BEGIN:VTIMEZONE
TZID:Europe/Brussels
BEGIN:DAYLIGHT
TZOFFSETFROM:+0100
TZOFFSETTO:+0200
TZNAME:CEST
DTSTART:20230326T010000
END:DAYLIGHT
BEGIN:STANDARD
TZOFFSETFROM:+0200
TZOFFSETTO:+0100
TZNAME:CET
DTSTART:20231029T010000
END:STANDARD
BEGIN:DAYLIGHT
TZOFFSETFROM:+0100
TZOFFSETTO:+0200
TZNAME:CEST
DTSTART:20240331T010000
END:DAYLIGHT
BEGIN:STANDARD
TZOFFSETFROM:+0200
TZOFFSETTO:+0100
TZNAME:CET
DTSTART:20241027T010000
END:STANDARD
BEGIN:DAYLIGHT
TZOFFSETFROM:+0100
TZOFFSETTO:+0200
TZNAME:CEST
DTSTART:20250330T010000
END:DAYLIGHT
BEGIN:STANDARD
TZOFFSETFROM:+0200
TZOFFSETTO:+0100
TZNAME:CET
DTSTART:20251026T010000
END:STANDARD
END:VTIMEZONE
BEGIN:VEVENT
DTSTART;TZID=Europe/Brussels:20240206T200000
DTEND;TZID=Europe/Brussels:20240206T223000
DTSTAMP:20260422T103330
CREATED:20231119T172603Z
LAST-MODIFIED:20231119T172751Z
UID:399-1707249600-1707258600@svenbloemen.be
SUMMARY:Stef Paglia Band @ Spirit of 66
DESCRIPTION:
URL:https://svenbloemen.be/event/stef-paglia-band-spirit-of-66/
LOCATION:Spirit of 66\, Place du Martyr 16\, Verviers\, 4800\, Belgium
END:VEVENT
BEGIN:VEVENT
DTSTART;TZID=Europe/Brussels:20240225T160000
DTEND;TZID=Europe/Brussels:20240225T190000
DTSTAMP:20260422T103330
CREATED:20231128T212959Z
LAST-MODIFIED:20231128T212959Z
UID:403-1708876800-1708887600@svenbloemen.be
SUMMARY:Stef Paglia @ De Gouden Leeuw
DESCRIPTION:
URL:https://svenbloemen.be/event/stef-paglia-de-gouden-leeuw/
LOCATION:De Gouden Leeuw\, Sint Josephstraat 107\, Dongen\, Netherlands
END:VEVENT
END:VCALENDAR