BEGIN:VCALENDAR
VERSION:2.0
PRODID:-//Sven Bloemen - ECPv6.15.18//NONSGML v1.0//EN
CALSCALE:GREGORIAN
METHOD:PUBLISH
X-WR-CALNAME:Sven Bloemen
X-ORIGINAL-URL:https://svenbloemen.be
X-WR-CALDESC:Events for Sven Bloemen
REFRESH-INTERVAL;VALUE=DURATION:PT1H
X-Robots-Tag:noindex
X-PUBLISHED-TTL:PT1H
BEGIN:VTIMEZONE
TZID:UTC
BEGIN:STANDARD
TZOFFSETFROM:+0000
TZOFFSETTO:+0000
TZNAME:UTC
DTSTART:20220101T000000
END:STANDARD
END:VTIMEZONE
BEGIN:VTIMEZONE
TZID:Europe/Brussels
BEGIN:DAYLIGHT
TZOFFSETFROM:+0100
TZOFFSETTO:+0200
TZNAME:CEST
DTSTART:20220327T010000
END:DAYLIGHT
BEGIN:STANDARD
TZOFFSETFROM:+0200
TZOFFSETTO:+0100
TZNAME:CET
DTSTART:20221030T010000
END:STANDARD
BEGIN:DAYLIGHT
TZOFFSETFROM:+0100
TZOFFSETTO:+0200
TZNAME:CEST
DTSTART:20230326T010000
END:DAYLIGHT
BEGIN:STANDARD
TZOFFSETFROM:+0200
TZOFFSETTO:+0100
TZNAME:CET
DTSTART:20231029T010000
END:STANDARD
BEGIN:DAYLIGHT
TZOFFSETFROM:+0100
TZOFFSETTO:+0200
TZNAME:CEST
DTSTART:20240331T010000
END:DAYLIGHT
BEGIN:STANDARD
TZOFFSETFROM:+0200
TZOFFSETTO:+0100
TZNAME:CET
DTSTART:20241027T010000
END:STANDARD
END:VTIMEZONE
BEGIN:VEVENT
DTSTART;TZID=UTC:20231005T080000
DTEND;TZID=UTC:20231005T230000
DTSTAMP:20260422T165831
CREATED:20230709T083507Z
LAST-MODIFIED:20230709T083507Z
UID:202-1696492800-1696546800@svenbloemen.be
SUMMARY:Stef Paglia Trio @ Mon Café
DESCRIPTION:
URL:https://svenbloemen.be/event/stef-paglia-trio-mon-cafe/
LOCATION:Mon Café\, Lombaardstraat 8\, Hasselt\, 3500\, Belgium
END:VEVENT
BEGIN:VEVENT
DTSTART;TZID=Europe/Brussels:20231014T200000
DTEND;TZID=Europe/Brussels:20231014T230000
DTSTAMP:20260422T165831
CREATED:20230731T160414Z
LAST-MODIFIED:20230731T160531Z
UID:354-1697313600-1697324400@svenbloemen.be
SUMMARY:Stef Paglia Trio @ Belgian Blues Challenge
DESCRIPTION:
URL:https://svenbloemen.be/event/stef-paglia-trio-belgian-blues-challenge/
LOCATION:VTC de Mixx\, Asbroek 1H\, Herselt\, 2230\, Belgium
END:VEVENT
END:VCALENDAR