BEGIN:VCALENDAR
VERSION:2.0
PRODID:-//Sven Bloemen - ECPv6.15.18//NONSGML v1.0//EN
CALSCALE:GREGORIAN
METHOD:PUBLISH
X-WR-CALNAME:Sven Bloemen
X-ORIGINAL-URL:https://svenbloemen.be
X-WR-CALDESC:Events for Sven Bloemen
REFRESH-INTERVAL;VALUE=DURATION:PT1H
X-Robots-Tag:noindex
X-PUBLISHED-TTL:PT1H
BEGIN:VTIMEZONE
TZID:Europe/Brussels
BEGIN:DAYLIGHT
TZOFFSETFROM:+0100
TZOFFSETTO:+0200
TZNAME:CEST
DTSTART:20220327T010000
END:DAYLIGHT
BEGIN:STANDARD
TZOFFSETFROM:+0200
TZOFFSETTO:+0100
TZNAME:CET
DTSTART:20221030T010000
END:STANDARD
BEGIN:DAYLIGHT
TZOFFSETFROM:+0100
TZOFFSETTO:+0200
TZNAME:CEST
DTSTART:20230326T010000
END:DAYLIGHT
BEGIN:STANDARD
TZOFFSETFROM:+0200
TZOFFSETTO:+0100
TZNAME:CET
DTSTART:20231029T010000
END:STANDARD
BEGIN:DAYLIGHT
TZOFFSETFROM:+0100
TZOFFSETTO:+0200
TZNAME:CEST
DTSTART:20240331T010000
END:DAYLIGHT
BEGIN:STANDARD
TZOFFSETFROM:+0200
TZOFFSETTO:+0100
TZNAME:CET
DTSTART:20241027T010000
END:STANDARD
END:VTIMEZONE
BEGIN:VTIMEZONE
TZID:UTC
BEGIN:STANDARD
TZOFFSETFROM:+0000
TZOFFSETTO:+0000
TZNAME:UTC
DTSTART:20220101T000000
END:STANDARD
END:VTIMEZONE
BEGIN:VEVENT
DTSTART;TZID=Europe/Brussels:20230903T200000
DTEND;TZID=Europe/Brussels:20230903T233000
DTSTAMP:20260422T183245
CREATED:20230811T165633Z
LAST-MODIFIED:20230811T165633Z
UID:364-1693771200-1693783800@svenbloemen.be
SUMMARY:Stef Paglia Trio @ The Crossover Music Pub
DESCRIPTION:
URL:https://svenbloemen.be/event/stef-paglia-trio-the-crossover-music-pub/
LOCATION:The Crossover Music Pub\, Langerbrugge-eiland 1\, Gent\, 9000\, Belgium
END:VEVENT
BEGIN:VEVENT
DTSTART;TZID=UTC:20230916T083000
DTEND;TZID=UTC:20230916T230000
DTSTAMP:20260422T183245
CREATED:20230709T082732Z
LAST-MODIFIED:20230709T082732Z
UID:196-1694853000-1694905200@svenbloemen.be
SUMMARY:Stef Paglia Trio @ Blues Sphere
DESCRIPTION:
URL:https://svenbloemen.be/event/stef-paglia-trio-blues-sphere/
LOCATION:Blues Sphere\, Rue Surlet 37\, Liège\, 4020\, Belgium
END:VEVENT
BEGIN:VEVENT
DTSTART;TZID=UTC:20230923T080000
DTEND;TZID=UTC:20230923T233000
DTSTAMP:20260422T183245
CREATED:20230709T083237Z
LAST-MODIFIED:20230709T083237Z
UID:199-1695456000-1695511800@svenbloemen.be
SUMMARY:Stef Paglia Trio @ Dennenblues
DESCRIPTION:
URL:https://svenbloemen.be/event/stef-paglia-trio-dennenblues/
LOCATION:DennenBlues\, Gildehauserweg 27\, Losser\, 7581 PE\, Netherlands
END:VEVENT
END:VCALENDAR